BEGIN:VCALENDAR
VERSION:2.0
PRODID:spatie/icalendar-generator
DESCRIPTION:Events from St. Mary of the Angels
X-WR-CALDESC:Events from St. Mary of the Angels
REFRESH-INTERVAL;VALUE=DURATION:PT1440M
X-PUBLISHED-TTL:PT1440M
BEGIN:VTIMEZONE
TZID:America/Phoenix
BEGIN:STANDARD
DTSTART:20231223T093000Z
TZOFFSETFROM:-0700
TZOFFSETTO:-0700
END:STANDARD
END:VTIMEZONE
BEGIN:VTIMEZONE
TZID:UTC
BEGIN:STANDARD
DTSTART:20250724T082312Z
TZOFFSETFROM:+0000
TZOFFSETTO:+0000
END:STANDARD
END:VTIMEZONE
BEGIN:VEVENT
UID:2518-1057
DTSTAMP:20260420T082312Z
SUMMARY:Madonna Guild Book Study
LOCATION:Church Hall 1915 S Penrod Ln  Pinetop AZ 85935
ORGANIZER;CN=smoa:MAILTO:smoa@stmaryoftheangels.com
RRULE:FREQ=WEEKLY;UNTIL=20241107T000000Z
DTSTART;TZID=America/Phoenix:20240918T093000
DTEND;TZID=America/Phoenix:20240918T110000
X-ALT-DESC;FMTTYPE=TEXT/HTML:Upcoming Spiritual Book Study: Understanding T
 he Big Picture Of The Bible We are happy to announce that the next Spiritu
 al Book Study will combine two enlightening publications. The first is THE
  GREAT ADVENTURE Bible Timeline by Jeff Cavins from Ascension Press. The s
 econd is a book written by Edward Sri and Curtis Martin entitled THE&amp;helli
 p\;
CATEGORIES:General
URL;VALUE=URI:https://stmaryoftheangels.com/mc-events/madonna-guild-book-st
 udy-2/?mc_id=2518
METHOD:PUBLISH
END:VEVENT
END:VCALENDAR