BEGIN:VCALENDAR
VERSION:2.0
PRODID:spatie/icalendar-generator
DESCRIPTION:Events from St. Mary of the Angels
X-WR-CALDESC:Events from St. Mary of the Angels
REFRESH-INTERVAL;VALUE=DURATION:PT1440M
X-PUBLISHED-TTL:PT1440M
BEGIN:VTIMEZONE
TZID:America/Phoenix
BEGIN:STANDARD
DTSTART:20240701T170000Z
TZOFFSETFROM:-0700
TZOFFSETTO:-0700
END:STANDARD
END:VTIMEZONE
BEGIN:VTIMEZONE
TZID:UTC
BEGIN:STANDARD
DTSTART:20250727T084525Z
TZOFFSETFROM:+0000
TZOFFSETTO:+0000
END:STANDARD
END:VTIMEZONE
BEGIN:VEVENT
UID:3039-1243
DTSTAMP:20260423T084525Z
SUMMARY:Stations of the Cross
LOCATION:Church 1915 S Penrod Ln  Pinetop AZ 85935
ORGANIZER;CN=smoa:MAILTO:smoa@stmaryoftheangels.com
RRULE:FREQ=WEEKLY;UNTIL=20250411T000000Z
DTSTART;TZID=America/Phoenix:20250328T170000
DTEND;TZID=America/Phoenix:20250328T180000
X-ALT-DESC;FMTTYPE=TEXT/HTML:[pdf-embedder url=\"https://stmaryoftheangels.
 com/wp-content/uploads/sites/10/2025/03/SOC-14.pdf\" title=\"SOC 14\"]
CATEGORIES:Prayer Service
URL;VALUE=URI:https://stmaryoftheangels.com/mc-events/stations-of-the-cross
 -3/?mc_id=3039
METHOD:PUBLISH
END:VEVENT
END:VCALENDAR