BEGIN:VCALENDAR
VERSION:2.0
PRODID:spatie/icalendar-generator
DESCRIPTION:Events from St. Mary of the Angels
X-WR-CALDESC:Events from St. Mary of the Angels
REFRESH-INTERVAL;VALUE=DURATION:PT1440M
X-PUBLISHED-TTL:PT1440M
BEGIN:VTIMEZONE
TZID:America/Phoenix
BEGIN:STANDARD
DTSTART:20240723T000000Z
TZOFFSETFROM:-0700
TZOFFSETTO:-0700
END:STANDARD
END:VTIMEZONE
BEGIN:VTIMEZONE
TZID:UTC
BEGIN:STANDARD
DTSTART:20250724T083226Z
TZOFFSETFROM:+0000
TZOFFSETTO:+0000
END:STANDARD
END:VTIMEZONE
BEGIN:VEVENT
UID:3052-1252
DTSTAMP:20260420T083226Z
SUMMARY:Easter Vigil
LOCATION:Church 1915 S Penrod Ln  Pinetop AZ 85935
ORGANIZER;CN=smoa:MAILTO:smoa@stmaryoftheangels.com
DTSTART;TZID=America/Phoenix;VALUE=DATE:20250419
DTEND;TZID=America/Phoenix;VALUE=DATE:20250420
X-ALT-DESC;FMTTYPE=TEXT/HTML:https://stmaryoftheangels.com/wp-content/uploa
 ds/sites/10/2025/03/Holy-Week-Services.pdf
CATEGORIES:Mass Intention
URL;VALUE=URI:https://stmaryoftheangels.com/mc-events/easter-vigil-2/
METHOD:PUBLISH
END:VEVENT
END:VCALENDAR