BEGIN:VCALENDAR
VERSION:2.0
PRODID:spatie/icalendar-generator
DESCRIPTION:Events from St. Mary of the Angels
X-WR-CALDESC:Events from St. Mary of the Angels
REFRESH-INTERVAL;VALUE=DURATION:PT1440M
X-PUBLISHED-TTL:PT1440M
BEGIN:VTIMEZONE
TZID:America/Phoenix
BEGIN:STANDARD
DTSTART:20231227T110000Z
TZOFFSETFROM:-0700
TZOFFSETTO:-0700
END:STANDARD
END:VTIMEZONE
BEGIN:VTIMEZONE
TZID:UTC
BEGIN:STANDARD
DTSTART:20250725T055449Z
TZOFFSETFROM:+0000
TZOFFSETTO:+0000
END:STANDARD
END:VTIMEZONE
BEGIN:VEVENT
UID:2517-1056
DTSTAMP:20260421T055449Z
SUMMARY:+Vincent &amp;amp\; +Paul Avona
LOCATION:St. Joseph Family Center 1915 S Penrod Ln  Pinetop AZ 85935
ORGANIZER;CN=smoa:MAILTO:smoa@stmaryoftheangels.com
DTSTART;TZID=America/Phoenix:20240922T110000
DTEND;TZID=America/Phoenix:20240922T120000
X-ALT-DESC;FMTTYPE=TEXT/HTML:
CATEGORIES:Mass Intention
URL;VALUE=URI:https://stmaryoftheangels.com/mc-events/vincent-paul-avona-6/
METHOD:PUBLISH
END:VEVENT
END:VCALENDAR